BEGIN:VCALENDAR
VERSION:2.0
PRODID:-//Cormac McCarthy - ECPv6.13.2.1//NONSGML v1.0//EN
CALSCALE:GREGORIAN
METHOD:PUBLISH
X-WR-CALNAME:Cormac McCarthy
X-ORIGINAL-URL:https://cormacmccarthy.net
X-WR-CALDESC:Events for Cormac McCarthy
REFRESH-INTERVAL;VALUE=DURATION:PT1H
X-Robots-Tag:noindex
X-PUBLISHED-TTL:PT1H
BEGIN:VTIMEZONE
TZID:America/New_York
BEGIN:DAYLIGHT
TZOFFSETFROM:-0500
TZOFFSETTO:-0400
TZNAME:EDT
DTSTART:20240310T070000
END:DAYLIGHT
BEGIN:STANDARD
TZOFFSETFROM:-0400
TZOFFSETTO:-0500
TZNAME:EST
DTSTART:20241103T060000
END:STANDARD
END:VTIMEZONE
BEGIN:VEVENT
DTSTART;TZID=America/New_York:20240922T130000
DTEND;TZID=America/New_York:20240922T140000
DTSTAMP:20260423T121906
CREATED:20240701T221927Z
LAST-MODIFIED:20240701T221927Z
UID:619-1727010000-1727013600@cormacmccarthy.net
SUMMARY:Common Ground Fair
DESCRIPTION:Happy to be back at this great fair sponsored by the Maine Organic Farmers and Growers!
URL:https://cormacmccarthy.net/event/common-ground-fair/
LOCATION:Common Ground Fair\, Common Ground Education Center\, Unity\, ME\, United States
END:VEVENT
BEGIN:VEVENT
DTSTART;TZID=America/New_York:20240828T190000
DTEND;TZID=America/New_York:20240828T210000
DTSTAMP:20260423T121906
CREATED:20240701T221355Z
LAST-MODIFIED:20240701T221355Z
UID:614-1724871600-1724878800@cormacmccarthy.net
SUMMARY:The Barn at Old Saco
DESCRIPTION:Solo show
URL:https://cormacmccarthy.net/event/the-barn-at-old-saco/
LOCATION:The Barn at Old Saco\, 125 Old Saco Lane\, Fryeburg\, ME\, United States
END:VEVENT
BEGIN:VEVENT
DTSTART;TZID=America/New_York:20240824T090000
DTEND;TZID=America/New_York:20240824T230000
DTSTAMP:20260423T121906
CREATED:20240701T215656Z
LAST-MODIFIED:20240701T215926Z
UID:605-1724490000-1724540400@cormacmccarthy.net
SUMMARY:Lonesome Fest
DESCRIPTION:Lonesome Fest \nat Belgian Meadows Farm \nCheck this out!  A real downhome get together with lots of great music and BBQ \nhttps://www.ticketleap.events/tickets/mrsippy/lonesomefest-24
URL:https://cormacmccarthy.net/event/lonesome-fest/
LOCATION:Lonesome Fest\, 279 Merchants Row\, Lebanon\, ME\, United States
END:VEVENT
BEGIN:VEVENT
DTSTART;TZID=America/New_York:20240818T173000
DTEND;TZID=America/New_York:20240818T193000
DTSTAMP:20260423T121906
CREATED:20240701T214950Z
LAST-MODIFIED:20240701T214950Z
UID:603-1724002200-1724009400@cormacmccarthy.net
SUMMARY:Gundalow Sail
DESCRIPTION:Check back for more info \nMarcy Street Dock\, Portsmouth\, NN
URL:https://cormacmccarthy.net/event/gundalow-sail/
LOCATION:The Gundalow\, Marcy Street\, Gundalow Dock at Prescott Park\, Portsmouth\, NH\, 03801\, United States
END:VEVENT
BEGIN:VEVENT
DTSTART;TZID=America/New_York:20240817T183000
DTEND;TZID=America/New_York:20240817T203000
DTSTAMP:20260423T121906
CREATED:20240701T214433Z
LAST-MODIFIED:20240701T222546Z
UID:600-1723919400-1723926600@cormacmccarthy.net
SUMMARY:3S ArtSpace - Cormac McCarthy Band
DESCRIPTION:6:30 seating – show starts at 7 PM – 1 set only \nSammie Haynes (vocals/percussion)\, Kent Allyn (keyboard/bass) and Bruce Derr (pedal steel) will be joining me for this show! \nGreat patio venue – food and drinks provided by Barrio’s \n319 Vaughan Street\, Portsmouth\, NH
URL:https://cormacmccarthy.net/event/3s-artspace-cormac-mccarthy-band/
LOCATION:3S Artspace\, 319 Vaughn Street\, Porstmoutn\, NH\, 03801\, United States
END:VEVENT
BEGIN:VEVENT
DTSTART;TZID=America/New_York:20240810T150000
DTEND;TZID=America/New_York:20240810T170000
DTSTAMP:20260423T121906
CREATED:20240701T212158Z
LAST-MODIFIED:20240701T222002Z
UID:592-1723302000-1723309200@cormacmccarthy.net
SUMMARY:Sunapee Riverway
DESCRIPTION:Sunapee Harbor\, Sunapee\, NH \nSammie Haynes may be joining me for this event! \n 
URL:https://cormacmccarthy.net/event/sunapee-riverway/
LOCATION:Sunapee Riverway\, Sunapee\, NH\, United States
END:VEVENT
BEGIN:VEVENT
DTSTART;TZID=America/New_York:20240803T140000
DTEND;TZID=America/New_York:20240803T160000
DTSTAMP:20260423T121906
CREATED:20240701T211438Z
LAST-MODIFIED:20240701T222019Z
UID:587-1722693600-1722700800@cormacmccarthy.net
SUMMARY:Meeting House Arts - Cormac McCarthy Trio
DESCRIPTION:Memorial Park\, Freeport\, ME \nKent Allyn (keyboard/bass) and Bruce Derr (pedal steel) will be joining me for this event! \nOther acts that day\, beginning at 1 PM include Nancy Sferra & Gif J and Stan Davis. \nhttps://meetinghousearts.org/events/
URL:https://cormacmccarthy.net/event/meeting-house-arts-cormac-mccarthy-trio/
LOCATION:Meeting House Arts\, Memorial Park\, Freeport\, United States
END:VEVENT
BEGIN:VEVENT
DTSTART;TZID=America/New_York:20240731T183000
DTEND;TZID=America/New_York:20240731T200000
DTSTAMP:20260423T121906
CREATED:20240701T210354Z
LAST-MODIFIED:20240701T222321Z
UID:583-1722450600-1722456000@cormacmccarthy.net
SUMMARY:Hot Summer Nights - Cormac McCarthy Band
DESCRIPTION:6:30-8 PM – Joining me will be Sammie Haynes\, Kent Allyn\, Bruce Derr and possibly more great players! \nMain Street\, South Berwick\, ME \nOutside on the lawn in front of Central School
URL:https://cormacmccarthy.net/event/hot-summer-nights-cormac-and-the-band/
LOCATION:Hot Summer Nights\, Central School Lawn\, 197 Main Street\, South Berwick\, ME\, 03908\, United States
END:VEVENT
BEGIN:VEVENT
DTSTART;TZID=America/New_York:20240730T170000
DTEND;TZID=America/New_York:20240730T193000
DTSTAMP:20260423T121906
CREATED:20240701T204108Z
LAST-MODIFIED:20240701T222635Z
UID:569-1722358800-1722367800@cormacmccarthy.net
SUMMARY:Tuesdays on the Terrace - Cormac McCarthy Trio
DESCRIPTION:Strawberry Banke\, Marcy Street\, Portsmouth\, NH \nI’ll be joined by Kent Allyn on keyboard/bass and Bruce Derr on pedal steel guitar. Who knows? Sammie Haynes might join us and make it a quartet! \nhttps://www.strawberybanke.org/tuesdays 
URL:https://cormacmccarthy.net/event/tuesdays-on-the-terrace-trio/
LOCATION:Strawberry Banke\, 14 Hancock Str\, Portsmouth\, NH\, 03801\, United States
END:VEVENT
BEGIN:VEVENT
DTSTART;TZID=America/New_York:20240721T180000
DTEND;TZID=America/New_York:20240721T200000
DTSTAMP:20260423T121906
CREATED:20240624T120926Z
LAST-MODIFIED:20240701T222114Z
UID:565-1721584800-1721592000@cormacmccarthy.net
SUMMARY:Gundalow Concert Sail
DESCRIPTION:6-8 PM – Sammie Haynes will be joining me for this sail! \nMarcy Street Dock\, Portsmouth\, NH https://www.gundalow.org/specials/
URL:https://cormacmccarthy.net/event/july-7-21-gundalow-concert-sail-6-8-pm-marcy-street-dock-portsmouth-nh-https-www-gundalow-org-specials-2/
LOCATION:The Gundalow\, Marcy Street\, Gundalow Dock at Prescott Park\, Portsmouth\, NH\, 03801\, United States
END:VEVENT
END:VCALENDAR